BEGIN:VCALENDAR
VERSION:2.0
PRODID:-//Intand Corporation//Tandem//EN
METHOD:PUBLISH
BEGIN:VEVENT
DTSTAMP:20260421T222545Z
DTSTART:20260820T120000Z
DTEND:20260820T130000Z
TRANSP:TRANSPARENT
PRIORITY:0
SUMMARY:New Parent Breakfast
LOCATION:Devos Chapel
DESCRIPTION:Groups:\nDevelopment\n\nSchools:\nCoral Ridge Presbyterian Chu
 rch\nWestminster Academy - Lower/Prep School\nWestminster Academy - Upper 
 School\n\nLocation:\nDevos Chapel\n\n
URL;VALUE=URI:https://wacad.tandem.co/index.php?type=view&action=event&id=
 93492
CREATED:20250604T203535Z
LAST-MODIFIED:20260415T175902Z
UID:event_request-93492-westminsteracademy@intand.com
END:VEVENT
END:VCALENDAR
