BEGIN:VCALENDAR
VERSION:2.0
PRODID:-//Intand Corporation//Tandem//EN
METHOD:PUBLISH
BEGIN:VEVENT
DTSTAMP:20260421T220115Z
DTSTART:20260422T143000Z
DTEND:20260422T213000Z
TRANSP:TRANSPARENT
PRIORITY:0
SUMMARY:       Spring  PREP /MS Orchestra /Band Recital Rehearsal
LOCATION:CRPC - Sanctuary
DESCRIPTION:Groups:\nFine Arts\n\nSchools:\nCoral Ridge Presbyterian Churc
 h\nWestminster Academy - Lower/Prep School\nWestminster Academy - Upper Sc
 hool\n\nLocation:\nCRPC - Sanctuary\n\n
URL;VALUE=URI:https://wacad.tandem.co/index.php?type=view&action=event&id=
 93576
CREATED:20250610T223739Z
LAST-MODIFIED:20251113T190708Z
UID:event_request-93576-westminsteracademy@intand.com
END:VEVENT
END:VCALENDAR
