BEGIN:VCALENDAR
VERSION:2.0
PRODID:-//Intand Corporation//Tandem//EN
METHOD:PUBLISH
BEGIN:VEVENT
DTSTAMP:20260421T220239Z
DTSTART;VALUE=DATE:20270506
DTEND;VALUE=DATE:20270507
TRANSP:TRANSPARENT
PRIORITY:0
SUMMARY:National Day of Prayer
LOCATION:Westminster Academy
DESCRIPTION:Groups:\nWestminster Academy\n\nSchools:\nWestminster Academy 
 - Upper School\n\nLocation:\nWestminster Academy\n\n
URL;VALUE=URI:https://wacad.tandem.co/index.php?type=view&action=event&id=
 96645
CREATED:20260115T182028Z
LAST-MODIFIED:20260115T182028Z
UID:event-96645-westminsteracademy@intand.com
END:VEVENT
END:VCALENDAR
