BEGIN:VCALENDAR
VERSION:2.0
PRODID:-//Intand Corporation//Tandem//EN
METHOD:PUBLISH
BEGIN:VEVENT
DTSTAMP:20260421T220106Z
DTSTART:20260505T160000Z
DTEND:20260505T200000Z
TRANSP:TRANSPARENT
PRIORITY:0
SUMMARY:AP US Government & Politics 
LOCATION:Westminster Academy
DESCRIPTION:Groups:\nAP Students\n\nSchools:\nWestminster Academy - Upper 
 School\n\nLocation:\nWestminster Academy\n\n
URL;VALUE=URI:https://wacad.tandem.co/index.php?type=view&action=event&id=
 97249
CREATED:20260302T191127Z
LAST-MODIFIED:20260302T191127Z
UID:event-97249-westminsteracademy@intand.com
END:VEVENT
END:VCALENDAR
