BEGIN:VCALENDAR
VERSION:2.0
PRODID:-//Intand Corporation//Tandem//EN
METHOD:PUBLISH
BEGIN:VEVENT
DTSTAMP:20260421T220106Z
DTSTART:20260512T120000Z
DTEND:20260512T160000Z
TRANSP:TRANSPARENT
PRIORITY:0
SUMMARY:AP Pre-Calculus 
LOCATION:Westminster Academy
DESCRIPTION:Groups:\nAP Students\n\nSchools:\nWestminster Academy - Upper 
 School\n\nLocation:\nWestminster Academy\n\n
URL;VALUE=URI:https://wacad.tandem.co/index.php?type=view&action=event&id=
 97256
CREATED:20260302T191534Z
LAST-MODIFIED:20260302T191534Z
UID:event-97256-westminsteracademy@intand.com
END:VEVENT
END:VCALENDAR
