BEGIN:VCALENDAR
VERSION:2.0
PRODID:-//Intand Corporation//Tandem//EN
METHOD:PUBLISH
BEGIN:VEVENT
DTSTAMP:20260421T192547Z
DTSTART:20260424T223000Z
DTEND:20260424T233000Z
TRANSP:TRANSPARENT
PRIORITY:0
SUMMARY:Varsity Water Polo State Semifinals
LOCATION:Belen Jesuit
DESCRIPTION:Groups:\nAthletics\nUpper School\nWater Polo Girls Varsity\nWa
 ter Polo Boys Varsity\n\nSchools:\nWestminster Academy - Upper School\n\nL
 ocation:\nBelen Jesuit\n\n
URL;VALUE=URI:https://wacad.tandem.co/index.php?type=view&action=event&id=
 97683
CREATED:20260417T180958Z
LAST-MODIFIED:20260418T004810Z
UID:event-97683-westminsteracademy@intand.com
END:VEVENT
END:VCALENDAR
